BEGIN:VCALENDAR
VERSION:2.0
METHOD:PUBLISH
CALSCALE:GREGORIAN
METHOD:PUBLISH
PRODID:iCalendar-Ruby
BEGIN:VEVENT
CATEGORIES:Külatalgud
COMMENT:https://talgud.teemeara.ee/
CONTACT:Siret Stoltsen\, siret.stoltsen@gmail.com\, 56661951
DESCRIPTION:
DTEND:20260502T130000
DTSTAMP:20260421T094007Z
DTSTART:20260502T100000
GEO:59.0882044;26.1788797
LAST-MODIFIED:20260417T094309
LOCATION:Lääne-Virumaa\, Väike-Maarja vald\, Kiltsi alevik\, Turu 13
ORGANIZER:Siret Stoltsen\, siret.stoltsen@gmail.com\, 56661951
SEQUENCE:0
STATUS:Registreerumiseks avatud
SUMMARY:260416016\, KILTSI külatalgud
UID:260416016
URL:https://talgud.teemeara.ee/events/kiltsi-kulatalgud
END:VEVENT
END:VCALENDAR
