BEGIN:VCALENDAR
VERSION:2.0
METHOD:PUBLISH
CALSCALE:GREGORIAN
METHOD:PUBLISH
PRODID:iCalendar-Ruby
BEGIN:VEVENT
CATEGORIES:Благоустрій,Толоки ідей (брейнсторм) ,Збір сміття
COMMENT:https://talgud.teemeara.ee/
CONTACT:Laila Meister\, laila@eb.ee\, 56494115
DESCRIPTION:
DTEND:20260502T140000
DTSTAMP:20260421T043758Z
DTSTART:20260502T100000
GEO:59.3580464046;26.97999298
LAST-MODIFIED:20260420T223232
LOCATION:Ida-Virumaa\, Lüganuse vald\, Kiviõli linn\, Soo tn 10
ORGANIZER:Laila Meister\, laila@eb.ee\, 56494115
SEQUENCE:0
STATUS:Registreerumiseks avatud
SUMMARY:260420022\, Kiisutuba kutsub heakorratalgutele Kiviõli Soo 10
UID:260420022
URL:https://talgud.teemeara.ee/events/kiisutuba-kutsub-heakorratalgutele-ki
 violi-soo-10
END:VEVENT
END:VCALENDAR
