BEGIN:VCALENDAR
VERSION:2.0
METHOD:PUBLISH
CALSCALE:GREGORIAN
METHOD:PUBLISH
PRODID:iCalendar-Ruby
BEGIN:VEVENT
CATEGORIES:Prügikoristus,Vaimse tervise talgud
COMMENT:https://talgud.teemeara.ee/
CONTACT:Kati Raju\, kati.raju@mail.ee\, 53987087
DTEND:20260430T133000
DTSTAMP:20260422T160939Z
DTSTART:20260430T100000
GEO:59.1353032;24.4987067635
LAST-MODIFIED:20260422T080103
LOCATION:Harjumaa\, Saue vald\, Kernu\, Kernu kool
ORGANIZER:Kati Raju\, kati.raju@mail.ee\, 53987087
SEQUENCE:0
STATUS:Registreerumine lõpetatud
SUMMARY:260421010\, Kernu kooli ja lasteaia talgud.
UID:260421010
URL:https://talgud.teemeara.ee/events/kernu-kooli-ja-lasteaia-talgud
END:VEVENT
END:VCALENDAR
