BEGIN:VCALENDAR
VERSION:2.0
METHOD:PUBLISH
CALSCALE:GREGORIAN
METHOD:PUBLISH
PRODID:iCalendar-Ruby
BEGIN:VEVENT
CATEGORIES:Heakord,Külatalgud,Looduskaitse,Prügikoristus
COMMENT:https://talgud.teemeara.ee/
CONTACT:Anna-Liisa Eljari\, talgud@keri.ee\, 5044623
DTEND:20260502T170000
DTSTAMP:20260422T042408Z
DTSTART:20260502T093000
GEO:59.6984268847;25.0227154829
LAST-MODIFIED:20260421T205039
LOCATION:Harjumaa\, Viimsi vald\, Keri saar
ORGANIZER:Anna-Liisa Eljari\, talgud@keri.ee\, 5044623
SEQUENCE:0
STATUS:Registreerumiseks avatud
SUMMARY:260419019\, Keri talgud
UID:260419019
URL:https://talgud.teemeara.ee/events/keri-talgud-5
END:VEVENT
END:VCALENDAR
