BEGIN:VCALENDAR
VERSION:2.0
METHOD:PUBLISH
CALSCALE:GREGORIAN
METHOD:PUBLISH
PRODID:iCalendar-Ruby
BEGIN:VEVENT
CATEGORIES:Heakord
COMMENT:https://talgud.teemeara.ee/
CONTACT:Aili Porila\, ailiporila@gmail.com\, 56645259
DTEND:20260502T160000
DTSTAMP:20260425T181809Z
DTSTART:20260502T100000
GEO:58.2589901;22.4358826
LAST-MODIFIED:20260425T170103
LOCATION:Saaremaa\, Saaremaa vald\, Laheküla\, Pargi tee2
ORGANIZER:Aili Porila\, ailiporila@gmail.com\, 56645259
SEQUENCE:0
STATUS:Registreerumine lõpetatud
SUMMARY:260425003\, Kergliiklustee äärte koristus
UID:260425003
URL:https://talgud.teemeara.ee/events/kergliiklustee-aarte-koristus
END:VEVENT
END:VCALENDAR
