BEGIN:VCALENDAR
VERSION:2.0
METHOD:PUBLISH
CALSCALE:GREGORIAN
METHOD:PUBLISH
PRODID:iCalendar-Ruby
BEGIN:VEVENT
CATEGORIES:Heakord,Kogukonna turvalisus,Prügikoristus
COMMENT:https://talgud.teemeara.ee/
CONTACT:Keeni Põhikool Maive Sinijärv\, maive.sinijarv@keeni.edu.ee\, 58871
 036
DESCRIPTION:
DTEND:20260516T160000
DTSTAMP:20260421T122505Z
DTSTART:20260516T100000
GEO:57.9575735942;26.2713077937
LAST-MODIFIED:20260421T130102
LOCATION:Valgamaa\, Otepää vald\, Keeni\, Keeni Põhikool\, Kooli tee 2
ORGANIZER:Keeni Põhikool Maive Sinijärv\, maive.sinijarv@keeni.edu.ee\, 588
 71036
SEQUENCE:0
STATUS:Registreerumine lõpetatud
SUMMARY:260421012\, Keeni kooli heaks!
UID:260421012
URL:https://talgud.teemeara.ee/events/keeni-kooli-heaks
END:VEVENT
END:VCALENDAR
