BEGIN:VCALENDAR
VERSION:2.0
METHOD:PUBLISH
CALSCALE:GREGORIAN
METHOD:PUBLISH
PRODID:iCalendar-Ruby
BEGIN:VEVENT
CATEGORIES:Heakord
COMMENT:https://talgud.teemeara.ee/
CONTACT:Krista Riik\, kristariik@gmail.com\, 5246612
DTEND:20260502T140000
DTSTAMP:20260421T052735Z
DTSTART:20260502T100000
GEO:58.5756436;22.8555642
LAST-MODIFIED:20260420T161100
LOCATION:Saaremaa\, Saaremaa vald\, Väike-Võhma\, Väike-Võhma küla\, seltsi
 maja
ORGANIZER:Krista Riik\, kristariik@gmail.com\, 5246612
SEQUENCE:0
STATUS:Registreerumiseks avatud
SUMMARY:260420026\, Kavandi seltsimaja talgupäev
UID:260420026
URL:https://talgud.teemeara.ee/events/kavandi-seltsimaja-talgupaev
END:VEVENT
END:VCALENDAR
