BEGIN:VCALENDAR
VERSION:2.0
METHOD:PUBLISH
CALSCALE:GREGORIAN
METHOD:PUBLISH
PRODID:iCalendar-Ruby
BEGIN:VEVENT
CATEGORIES:Heakord,Külatalgud
COMMENT:https://talgud.teemeara.ee/
CONTACT:Annika Kääramees\, annika.kaaramees@gmail.com\, 56969326
DTEND:20260502T160000
DTSTAMP:20260422T040138Z
DTSTART:20260502T120000
GEO:58.8002483;22.8349306
LAST-MODIFIED:20260421T213945
LOCATION:Hiiumaa\, Hiiumaa vald\, Kassari\, Kassari Rahvamaja
ORGANIZER:Annika Kääramees\, annika.kaaramees@gmail.com\, 56969326
SEQUENCE:0
STATUS:Registreerumiseks avatud
SUMMARY:260421037\, Kassari Rahvamaja kevadtalgud
UID:260421037
URL:https://talgud.teemeara.ee/events/kassari-rahvamaja-kevadtalgud-2
END:VEVENT
END:VCALENDAR
