BEGIN:VCALENDAR
VERSION:2.0
METHOD:PUBLISH
CALSCALE:GREGORIAN
METHOD:PUBLISH
PRODID:iCalendar-Ruby
BEGIN:VEVENT
CATEGORIES:Heakord,Looduskaitse,Prügikoristus
COMMENT:https://talgud.teemeara.ee/
CONTACT:Andrei Lipkin\, andreilipponen@gmail.com\, 55545410
DTEND:20260524T170000
DTSTAMP:20260421T093309Z
DTSTART:20260523T100000
GEO:;
LAST-MODIFIED:20260327T214705
LOCATION:Ida-Virumaa\, Sillamäe linn\, Kasesalu park
ORGANIZER:Andrei Lipkin\, andreilipponen@gmail.com\, 55545410
SEQUENCE:0
STATUS:Registreerumiseks avatud
SUMMARY:260323005\, Kasesalu pargi korrastamine Sillamäel
UID:260323005
URL:https://talgud.teemeara.ee/events/kasesalu-korrastamine
END:VEVENT
END:VCALENDAR
