BEGIN:VCALENDAR
VERSION:2.0
METHOD:PUBLISH
CALSCALE:GREGORIAN
METHOD:PUBLISH
PRODID:iCalendar-Ruby
BEGIN:VEVENT
CATEGORIES:Külatalgud,Prügikoristus
COMMENT:https://talgud.teemeara.ee/
CONTACT:Estra Kullama\, estrak58@gmail.com\, 55628982
DESCRIPTION:
DTEND:20260502T150000
DTSTAMP:20260425T210735Z
DTSTART:20260502T100000
GEO:57.9770252524;21.8496411727
LAST-MODIFIED:20260422T114736
LOCATION:Saaremaa\, Saaremaa vald\, Karuste\, Karuste kooli varemed
ORGANIZER:Estra Kullama\, estrak58@gmail.com\, 55628982
SEQUENCE:0
STATUS:Registreerumine lõpetatud
SUMMARY:260422006\, Karuste kool
UID:260422006
URL:https://talgud.teemeara.ee/events/karuste-kool
END:VEVENT
END:VCALENDAR
