BEGIN:VCALENDAR
VERSION:2.0
METHOD:PUBLISH
CALSCALE:GREGORIAN
METHOD:PUBLISH
PRODID:iCalendar-Ruby
BEGIN:VEVENT
CATEGORIES:Heakord
COMMENT:https://talgud.teemeara.ee/
CONTACT:Mari Vest\, mari.vest1@gmail.com\, 56480725
DTEND:20260501T120000
DTSTAMP:20260419T165242Z
DTSTART:20260501T100000
GEO:58.8304173;25.1385137
LAST-MODIFIED:20260419T102012
LOCATION:Järvamaa\, Türi vald\, Käru alevik\, Aia 20
ORGANIZER:Mari Vest\, mari.vest1@gmail.com\, 56480725
SEQUENCE:0
STATUS:Registreerumiseks avatud
SUMMARY:260417008\, Käru Põhikool
UID:260417008
URL:https://talgud.teemeara.ee/events/karu-pohikool-1
END:VEVENT
END:VCALENDAR
