BEGIN:VCALENDAR
VERSION:2.0
METHOD:PUBLISH
CALSCALE:GREGORIAN
METHOD:PUBLISH
PRODID:iCalendar-Ruby
BEGIN:VEVENT
CATEGORIES:Heakord,Külatalgud,Prügikoristus
COMMENT:https://talgud.teemeara.ee/
CONTACT:Rein Anton\, suurelepa@gmail.com\, 5115422
DESCRIPTION:
DTEND:20260428T210000
DTSTAMP:20260424T142258Z
DTSTART:20260428T180000
GEO:58.1441054185;25.8013400058
LAST-MODIFIED:20260424T140505
LOCATION:Viljandimaa\, Viljandi vald\, Kärstna
ORGANIZER:Rein Anton\, suurelepa@gmail.com\, 5115422
SEQUENCE:0
STATUS:Registreerumiseks avatud
SUMMARY:260424014\, Kärstna küla heakorrapäev
UID:260424014
URL:https://talgud.teemeara.ee/events/karstna-kula-heakorrapaev-5
END:VEVENT
END:VCALENDAR
