BEGIN:VCALENDAR
VERSION:2.0
METHOD:PUBLISH
CALSCALE:GREGORIAN
METHOD:PUBLISH
PRODID:iCalendar-Ruby
BEGIN:VEVENT
CATEGORIES:Heakord,Prügikoristus
COMMENT:https://talgud.teemeara.ee/
CONTACT:Triin Aksalu\, triin.aksalu@saaremaavald.ee\, 56925049
DTEND:20260502T123000
DTSTAMP:20260421T121926Z
DTSTART:20260502T100000
GEO:58.3349793913;22.2581020725
LAST-MODIFIED:20260421T115140
LOCATION:Saaremaa\, Saaremaa vald\, Kärla alevik\, Keldrimäe (Kärla kalmist
 u kõrval)
ORGANIZER:Triin Aksalu\, triin.aksalu@saaremaavald.ee\, 56925049
SEQUENCE:0
STATUS:Registreerumiseks avatud
SUMMARY:260421003\, Kärla aleviku talgud Keldrimäel vol 5
UID:260421003
URL:https://talgud.teemeara.ee/events/karla-aleviku-talgud-keldrimael-vol-5
END:VEVENT
END:VCALENDAR
