BEGIN:VCALENDAR
VERSION:2.0
METHOD:PUBLISH
CALSCALE:GREGORIAN
METHOD:PUBLISH
PRODID:iCalendar-Ruby
BEGIN:VEVENT
CATEGORIES:Heakord
COMMENT:https://talgud.teemeara.ee/
CONTACT:Hille Nugis\, hillenugis@gmail.com\, 53415838
DESCRIPTION:
DTEND:20260423T183000
DTSTAMP:20260423T225011Z
DTSTART:20260423T170000
GEO:59.0392743905;25.9582357266
LAST-MODIFIED:20260423T170103
LOCATION:Järvamaa\, Järva vald\, Karinu
ORGANIZER:Hille Nugis\, hillenugis@gmail.com\, 53415838
SEQUENCE:0
STATUS:Registreerumine lõpetatud
SUMMARY:260422008\, Karinu külaplatsi korrastamine
UID:260422008
URL:https://talgud.teemeara.ee/events/karinu-kulaplatsi-korrastamine
END:VEVENT
END:VCALENDAR
