BEGIN:VCALENDAR
VERSION:2.0
METHOD:PUBLISH
CALSCALE:GREGORIAN
METHOD:PUBLISH
PRODID:iCalendar-Ruby
BEGIN:VEVENT
CATEGORIES:Heakord,Külatalgud,Prügikoristus
COMMENT:https://talgud.teemeara.ee/
CONTACT:Katrin Soon\, kati.soon@gmail.com\, 58048426
DTEND:20260503T130000
DTSTAMP:20260424T075546Z
DTSTART:20260503T100000
GEO:57.9291180787;26.6963563012
LAST-MODIFIED:20260424T073217
LOCATION:Võrumaa\, Võru vald\, Kärgula\, Kärgula infotahvli juures ja külas
 iseste teede pervedel
ORGANIZER:Katrin Soon\, kati.soon@gmail.com\, 58048426
SEQUENCE:0
STATUS:Registreerumiseks avatud
SUMMARY:260424001\, Kärgula infotahvli plats ja teeservad korda!
UID:260424001
URL:https://talgud.teemeara.ee/events/kargula-infotahvli-plats-ja-teeservad
 -korda
END:VEVENT
END:VCALENDAR
