BEGIN:VCALENDAR
VERSION:2.0
METHOD:PUBLISH
CALSCALE:GREGORIAN
METHOD:PUBLISH
PRODID:iCalendar-Ruby
BEGIN:VEVENT
CATEGORIES:Külatalgud
COMMENT:https://talgud.teemeara.ee/
CONTACT:Jelena Zubkevitš\, yelllenka@gmail.com\, 53471015
DESCRIPTION:
DTEND:20260501T160000
DTSTAMP:20260422T031341Z
DTSTART:20260501T110000
GEO:59.1892895812;25.7652246016
LAST-MODIFIED:20260421T190102
LOCATION:Järvamaa\, Järva vald\, Käravete alevik\, Ambla tee 1
ORGANIZER:Jelena Zubkevitš\, yelllenka@gmail.com\, 53471015
SEQUENCE:0
STATUS:Registreerumine lõpetatud
SUMMARY:260421032\, KÄRAVETE KÜLAPLATS KORDA
UID:260421032
URL:https://talgud.teemeara.ee/events/karavete-kulaplats-korda
END:VEVENT
END:VCALENDAR
