BEGIN:VCALENDAR
VERSION:2.0
METHOD:PUBLISH
CALSCALE:GREGORIAN
METHOD:PUBLISH
PRODID:iCalendar-Ruby
BEGIN:VEVENT
CATEGORIES:Heakord,Kogukonna turvalisus,Külatalgud
COMMENT:https://talgud.teemeara.ee/
CONTACT:Peeter Kangur\, pk@pyhajarve.edu.ee\, 5286547
DESCRIPTION:
DTEND:20260502T160000
DTSTAMP:20260425T235449Z
DTSTART:20260502T100000
GEO:57.9525806327;26.4660920803
LAST-MODIFIED:20260425T105552
LOCATION:Valgamaa\, Otepää vald\, Tõutsi
ORGANIZER:Peeter Kangur\, pk@pyhajarve.edu.ee\, 5286547
SEQUENCE:0
STATUS:Registreerumiseks avatud
SUMMARY:260424026\, Kappermäe seltsi talgud
UID:260424026
URL:https://talgud.teemeara.ee/events/kappermae-seltsi-talgud-11
END:VEVENT
END:VCALENDAR
