BEGIN:VCALENDAR
VERSION:2.0
METHOD:PUBLISH
CALSCALE:GREGORIAN
METHOD:PUBLISH
PRODID:iCalendar-Ruby
BEGIN:VEVENT
CATEGORIES:Heakord,Muud talgud
COMMENT:https://talgud.teemeara.ee/
CONTACT:Käti Teär-Riisaar\, kati.tear@gmail.com\, 5056817
DTEND:20260509T140000
DTSTAMP:20260425T235602Z
DTSTART:20260509T110000
GEO:59.3528731;24.0551582
LAST-MODIFIED:20260425T110807
LOCATION:Harjumaa\, Lääne-Harju vald\, Paldiski linn\, Paldiski linnaväljak
ORGANIZER:Käti Teär-Riisaar\, kati.tear@gmail.com\, 5056817
SEQUENCE:0
STATUS:Registreerumiseks avatud
SUMMARY:260424008\, Kapituulutus Paldiskis
UID:260424008
URL:https://talgud.teemeara.ee/events/kapituulutus-paldiskis
END:VEVENT
END:VCALENDAR
