BEGIN:VCALENDAR
VERSION:2.0
METHOD:PUBLISH
CALSCALE:GREGORIAN
METHOD:PUBLISH
PRODID:iCalendar-Ruby
BEGIN:VEVENT
CATEGORIES:Prügikoristus
COMMENT:https://talgud.teemeara.ee/
CONTACT:Tatjana Dobroljubova\, kaokelasteaed@gmail.com\, 57190155
DESCRIPTION:
DTEND:20260513T160000
DTSTAMP:20260424T154303Z
DTSTART:20260513T100000
GEO:59.3172236;28.0829499
LAST-MODIFIED:20260424T150102
LOCATION:Ida-Virumaa\, Narva linn\, Narva\, Kangelaste 38
ORGANIZER:Tatjana Dobroljubova\, kaokelasteaed@gmail.com\, 57190155
SEQUENCE:0
STATUS:Registreerumine lõpetatud
SUMMARY:260423007\, Narva Käokese lasteaia talgud
UID:260423007
URL:https://talgud.teemeara.ee/events/kaokese-lasteaed
END:VEVENT
END:VCALENDAR
