BEGIN:VCALENDAR
VERSION:2.0
METHOD:PUBLISH
CALSCALE:GREGORIAN
METHOD:PUBLISH
PRODID:iCalendar-Ruby
BEGIN:VEVENT
CATEGORIES:Heakord,Kogukonna turvalisus,Külatalgud,Mõttetalgud
COMMENT:https://talgud.teemeara.ee/
CONTACT:Maiu Vares\, varesmaiu@gmail.com\, 53489312
DTEND:20260502T160000
DTSTAMP:20260421T103954Z
DTSTART:20260502T100000
GEO:58.0728466;27.2603082
LAST-MODIFIED:20260420T113254
LOCATION:Põlvamaa\, Põlva vald\, Kanassaare\, Kanassaare külaplats
ORGANIZER:Maiu Vares\, varesmaiu@gmail.com\, 53489312
SEQUENCE:0
STATUS:Registreerumiseks avatud
SUMMARY:260420009\, Kanassaare külatalgud
UID:260420009
URL:https://talgud.teemeara.ee/events/kanassaare-kulatalgud-1
END:VEVENT
END:VCALENDAR
