BEGIN:VCALENDAR
VERSION:2.0
METHOD:PUBLISH
CALSCALE:GREGORIAN
METHOD:PUBLISH
PRODID:iCalendar-Ruby
BEGIN:VEVENT
CATEGORIES:Heakord
COMMENT:https://talgud.teemeara.ee/
CONTACT:Reido Orov\, reido.orov@mail.ee\, 5064095
DESCRIPTION:
DTEND:20260502T133000
DTSTAMP:20260421T103750Z
DTSTART:20260502T090000
GEO:58.235960903;26.6997481307
LAST-MODIFIED:20260420T234102
LOCATION:Tartumaa\, Kambja vald\, Kambja alevik\, Kambja alevik\, Puiestee 
 tn 1
ORGANIZER:Reido Orov\, reido.orov@mail.ee\, 5064095
SEQUENCE:0
STATUS:Registreerumiseks avatud
SUMMARY:260419015\, Kambja kiriku talgud
UID:260419015
URL:https://talgud.teemeara.ee/events/kambja-kiriku-talgud-5
END:VEVENT
END:VCALENDAR
