BEGIN:VCALENDAR
VERSION:2.0
METHOD:PUBLISH
CALSCALE:GREGORIAN
METHOD:PUBLISH
PRODID:iCalendar-Ruby
BEGIN:VEVENT
CATEGORIES:Благоустрій,Збір сміття
COMMENT:https://talgud.teemeara.ee/
CONTACT:Aleksander Tammert\, staadion@eestikalev.ee\, 5086585
DTEND:20260502T160000
DTSTAMP:20260420T134413Z
DTSTART:20260502T100000
GEO:59.4327987;24.7630218
LAST-MODIFIED:20260418T200118
LOCATION:Harjumaa\, Tallinn\, Kesklinna linnaosa\, Staadioni 3\, Tallinn
ORGANIZER:Aleksander Tammert\, staadion@eestikalev.ee\, 5086585
SEQUENCE:0
STATUS:Registreerumiseks avatud
SUMMARY:260416015\, Kalevi Staadioni talgupäev
UID:260416015
URL:https://talgud.teemeara.ee/events/kalevi-staadioni-talgupaev-3
END:VEVENT
END:VCALENDAR
