BEGIN:VCALENDAR
VERSION:2.0
METHOD:PUBLISH
CALSCALE:GREGORIAN
METHOD:PUBLISH
PRODID:iCalendar-Ruby
BEGIN:VEVENT
CATEGORIES:Heakord,Külatalgud,Prügikoristus
COMMENT:https://talgud.teemeara.ee/
CONTACT:Mart Reino\, reinomart@gmail.com\, 12345678
DTEND:20260502T210000
DTSTAMP:20260420T161605Z
DTSTART:20260502T060000
GEO:58.8911003;24.8742606
LAST-MODIFIED:20260420T143507
LOCATION:Raplamaa\, Kehtna vald\, Kalbu
ORGANIZER:Mart Reino\, reinomart@gmail.com\, 12345678
SEQUENCE:0
STATUS:Registreerumiseks avatud
SUMMARY:260419002\, Käime Kalbu Küla Korda
UID:260419002
URL:https://talgud.teemeara.ee/events/kaime-kalbu-kula-korda
END:VEVENT
END:VCALENDAR
