BEGIN:VCALENDAR
VERSION:2.0
METHOD:PUBLISH
CALSCALE:GREGORIAN
METHOD:PUBLISH
PRODID:iCalendar-Ruby
BEGIN:VEVENT
CATEGORIES:Heakord,Kogukonna turvalisus,Korteriühistud,Külatalgud,Mõttetalg
 ud,Prügikoristus,Vaimse tervise talgud
COMMENT:https://talgud.teemeara.ee/
CONTACT:Sirli Paistu\, sirli.paistu@gmail.com\, 53845250
DESCRIPTION:
DTEND:20260502T180000
DTSTAMP:20260424T080907Z
DTSTART:20260502T120000
GEO:58.4596316736;26.6522454752
LAST-MODIFIED:20260424T075632
LOCATION:Tartumaa\, Tartu vald\, Kärkna\, Võibki maja taga Terminali garaaž
 i all
ORGANIZER:Sirli Paistu\, sirli.paistu@gmail.com\, 53845250
SEQUENCE:0
STATUS:Registreerumiseks avatud
SUMMARY:260422030\, Käed külge Kärkna tuumavarjendile
UID:260422030
URL:https://talgud.teemeara.ee/events/kaed-kulge-karkna-tuumavarjendile
END:VEVENT
END:VCALENDAR
