BEGIN:VCALENDAR
VERSION:2.0
METHOD:PUBLISH
CALSCALE:GREGORIAN
METHOD:PUBLISH
PRODID:iCalendar-Ruby
BEGIN:VEVENT
CATEGORIES:Vaimse tervise talgud
COMMENT:https://talgud.teemeara.ee/
CONTACT:Kristi Aimla-Maripuu\, kristi@kadrina.edu.ee\, 5535893
DTEND:20260505T150000
DTSTAMP:20260425T235633Z
DTSTART:20260505T083000
GEO:59.339128;26.1414751
LAST-MODIFIED:20260422T111225
LOCATION:Lääne-Virumaa\, Kadrina vald\, Kadrina alevik\, Kadrina\, Rakvere 
 tee 4
ORGANIZER:Kristi Aimla-Maripuu\, kristi@kadrina.edu.ee\, 5535893
SEQUENCE:0
STATUS:Registreerumiseks avatud
SUMMARY:260421029\, Kadrina Keskkooli vaimse tervise talgupäev
UID:260421029
URL:https://talgud.teemeara.ee/events/kadrina-keskkooli-vaimse-tervise-talg
 upaev
END:VEVENT
END:VCALENDAR
