BEGIN:VCALENDAR
VERSION:2.0
METHOD:PUBLISH
CALSCALE:GREGORIAN
METHOD:PUBLISH
PRODID:iCalendar-Ruby
BEGIN:VEVENT
CATEGORIES:Prügikoristus
COMMENT:https://talgud.teemeara.ee/
CONTACT:Mihhail Semiyanov\, mihhail.semiyanov@kjg.ee\, 56955261
DESCRIPTION:
DTEND:20260502T160000
DTSTAMP:20260422T205210Z
DTSTART:20260502T140000
GEO:59.349374939;27.4165788345
LAST-MODIFIED:20260422T180102
LOCATION:Ida-Virumaa\, Jõhvi vald\, Jõhvi linn\, Pargi tn 38c\, Jõhvi\, 415
 37 Ida-Viru maakond\nHariduse tn 9a\, Jõhvi\, 41534 Ida-Viru maakond
ORGANIZER:Mihhail Semiyanov\, mihhail.semiyanov@kjg.ee\, 56955261
SEQUENCE:0
STATUS:Registreerumine lõpetatud
SUMMARY:260422019\, Jõhvi ja Kohtla-Järve noorte talgupäev
UID:260422019
URL:https://talgud.teemeara.ee/events/johvi-ja-kohtla-jarve-noorte-talgupae
 v
END:VEVENT
END:VCALENDAR
