BEGIN:VCALENDAR
VERSION:2.0
METHOD:PUBLISH
CALSCALE:GREGORIAN
METHOD:PUBLISH
PRODID:iCalendar-Ruby
BEGIN:VEVENT
CATEGORIES:Külatalgud,Heakord,Prügikoristus
COMMENT:https://talgud.teemeara.ee/
CONTACT:Tiia Saar\, joesuukylamaja@gmail.com\, 5102419
DESCRIPTION:
DTEND:20260502T150000
DTSTAMP:20260422T000817Z
DTSTART:20260502T100000
GEO:58.4939841398;24.9056058726
LAST-MODIFIED:20260421T164702
LOCATION:Pärnumaa\, Tori vald\, Keskuse tee 4 Jõesuu küla
ORGANIZER:Tiia Saar\, joesuukylamaja@gmail.com\, 5102419
SEQUENCE:0
STATUS:Registreerumiseks avatud
SUMMARY:260420006\, Jõesuu küla
UID:260420006
URL:https://talgud.teemeara.ee/events/joesuu-kula
END:VEVENT
END:VCALENDAR
