BEGIN:VCALENDAR
VERSION:2.0
METHOD:PUBLISH
CALSCALE:GREGORIAN
METHOD:PUBLISH
PRODID:iCalendar-Ruby
BEGIN:VEVENT
CATEGORIES:Heakord,Külatalgud,Mõttetalgud,Prügikoristus
COMMENT:https://talgud.teemeara.ee/
CONTACT:Kersti Viljamaa\, kerstiviljamaa@gmail.com\, 5155402
DTEND:20260502T150000
DTSTAMP:20260425T112942Z
DTSTART:20260502T110000
GEO:58.6585015;23.6893645
LAST-MODIFIED:20260424T170102
LOCATION:Pärnumaa\, Lääneranna vald\, Järise
ORGANIZER:Kersti Viljamaa\, kerstiviljamaa@gmail.com\, 5155402
SEQUENCE:0
STATUS:Registreerumine lõpetatud
SUMMARY:260424005\, Järise küla talgud
UID:260424005
URL:https://talgud.teemeara.ee/events/jarise-kula-talgud-3
END:VEVENT
END:VCALENDAR
