BEGIN:VCALENDAR
VERSION:2.0
METHOD:PUBLISH
CALSCALE:GREGORIAN
METHOD:PUBLISH
PRODID:iCalendar-Ruby
BEGIN:VEVENT
CATEGORIES:Elurikkad õppeaiad,Heakord
COMMENT:https://talgud.teemeara.ee/
CONTACT:Mari Kübarsepp\, mari.kybarsepp@hotmail.com\, 5251896
DTEND:20260425T160000
DTSTAMP:20260425T194620Z
DTSTART:20260425T130000
GEO:57.9809911;22.0711342
LAST-MODIFIED:20260425T130102
LOCATION:Saaremaa\, Saaremaa vald\, Iide\, Koolimaja\, iide küla
ORGANIZER:Mari Kübarsepp\, mari.kybarsepp@hotmail.com\, 5251896
SEQUENCE:0
STATUS:Registreerumine lõpetatud
SUMMARY:260423001\, Iide küla Torgu Kooliaia talgupäev
UID:260423001
URL:https://talgud.teemeara.ee/events/iide-kula-torgu-kooliaia-talgupaev-2
END:VEVENT
END:VCALENDAR
