BEGIN:VCALENDAR
VERSION:2.0
METHOD:PUBLISH
CALSCALE:GREGORIAN
METHOD:PUBLISH
PRODID:iCalendar-Ruby
BEGIN:VEVENT
CATEGORIES:Heakord,Muud talgud,Prügikoristus
COMMENT:https://talgud.teemeara.ee/
CONTACT:Kristi Veiler\, kristi@ilandsound.ee\, +37253814304
DESCRIPTION:
DTEND:20260502T180000
DTSTAMP:20260421T051711Z
DTSTART:20260502T100000
GEO:58.5632957399;23.0895923688
LAST-MODIFIED:20260420T160712
LOCATION:Saaremaa\, Saaremaa vald\, Orissaare alevik
ORGANIZER:Kristi Veiler\, kristi@ilandsound.ee\, +37253814304
SEQUENCE:0
STATUS:Registreerumiseks avatud
SUMMARY:260420025\, I Land Sound 2026 talgupäev
UID:260420025
URL:https://talgud.teemeara.ee/events/i-land-sound-2026-talgupaev
END:VEVENT
END:VCALENDAR
