BEGIN:VCALENDAR
VERSION:2.0
METHOD:PUBLISH
CALSCALE:GREGORIAN
METHOD:PUBLISH
PRODID:iCalendar-Ruby
BEGIN:VEVENT
CATEGORIES:Благоустройство,Безопасность сообществ,Уборка мусора
COMMENT:https://talgud.teemeara.ee/
CONTACT:Ele-Hella Kullamäe\, elekullamae@gmail.com\, 56671397
DESCRIPTION:
DTEND:20260502T160000
DTSTAMP:20260422T211715Z
DTSTART:20260502T100000
GEO:59.3539652;26.0002098
LAST-MODIFIED:20260422T120102
LOCATION:Lääne-Virumaa\, Kadrina vald\, Vaiatu
ORGANIZER:Ele-Hella Kullamäe\, elekullamae@gmail.com\, 56671397
SEQUENCE:0
STATUS:Регистрация завершена
SUMMARY:260422007\, Hundi kelder varjumiskohaks
UID:260422007
URL:https://talgud.teemeara.ee/events/hundi-kelder-varjumiskohaks
END:VEVENT
END:VCALENDAR
