BEGIN:VCALENDAR
VERSION:2.0
METHOD:PUBLISH
CALSCALE:GREGORIAN
METHOD:PUBLISH
PRODID:iCalendar-Ruby
BEGIN:VEVENT
CATEGORIES:Vaimse tervise talgud
COMMENT:https://talgud.teemeara.ee/
CONTACT:Kätlin Kaljas\, katlin.kaljas@lounakaare.ee\, 53328238
DESCRIPTION:
DTEND:20260429T160000
DTSTAMP:20260421T105825Z
DTSTART:20260422T100000
GEO:58.0507352962;27.049943039
LAST-MODIFIED:20260421T120103
LOCATION:Põlvamaa\, Põlva vald\, Põlva linn
ORGANIZER:Kätlin Kaljas\, katlin.kaljas@lounakaare.ee\, 53328238
SEQUENCE:0
STATUS:Registreerumine lõpetatud
SUMMARY:260421011\, Hoiame rõõmu\, vaimu ja tervist
UID:260421011
URL:https://talgud.teemeara.ee/events/hoiame-roomu-vaimu-ja-tervist
END:VEVENT
END:VCALENDAR
