BEGIN:VCALENDAR
VERSION:2.0
METHOD:PUBLISH
CALSCALE:GREGORIAN
METHOD:PUBLISH
PRODID:iCalendar-Ruby
BEGIN:VEVENT
CATEGORIES:Prügikoristus
COMMENT:https://talgud.teemeara.ee/
CONTACT:Grete-Loviis Saar\, Loovviis@gmail.com\, 5244409
DESCRIPTION:
DTEND:20260502T160000
DTSTAMP:20260420T233113Z
DTSTART:20260502T100000
GEO:59.1687795;24.3486338
LAST-MODIFIED:20260420T195449
LOCATION:Harjumaa\, Saue vald\, Hingu
ORGANIZER:Grete-Loviis Saar\, Loovviis@gmail.com\, 5244409
SEQUENCE:0
STATUS:Registreerumiseks avatud
SUMMARY:260417004\, Hingu 
UID:260417004
URL:https://talgud.teemeara.ee/events/hingu
END:VEVENT
END:VCALENDAR
