BEGIN:VCALENDAR
VERSION:2.0
METHOD:PUBLISH
CALSCALE:GREGORIAN
METHOD:PUBLISH
PRODID:iCalendar-Ruby
BEGIN:VEVENT
CATEGORIES:Heakord,Prügikoristus,Vaimse tervise talgud
COMMENT:https://talgud.teemeara.ee/
CONTACT:Kersti  Nõmme\, kool@heimtali.vil.ee\, 5204969
DESCRIPTION:
DTEND:20260502T160000
DTSTAMP:20260421T134636Z
DTSTART:20260502T100000
GEO:58.3225460103;25.5031834847
LAST-MODIFIED:20260421T140102
LOCATION:Viljandimaa\, Viljandi vald\, Heimtali\, Heimtali mõis\, Pargi rin
 g 1
ORGANIZER:Kersti  Nõmme\, kool@heimtali.vil.ee\, 5204969
SEQUENCE:0
STATUS:Registreerumine lõpetatud
SUMMARY:260421013\, Heimtali kooli/ mõisa talgud
UID:260421013
URL:https://talgud.teemeara.ee/events/heimtali-kooli-slash-moisa-talgud
END:VEVENT
END:VCALENDAR
