BEGIN:VCALENDAR
VERSION:2.0
METHOD:PUBLISH
CALSCALE:GREGORIAN
METHOD:PUBLISH
PRODID:iCalendar-Ruby
BEGIN:VEVENT
CATEGORIES:Благоустройство
COMMENT:https://talgud.teemeara.ee/
CONTACT:Vladimir Lossev\, lossev1989@gmail.com\, 55959334
DESCRIPTION:
DTEND:20260502T150000
DTSTAMP:20260421T043759Z
DTSTART:20260502T100000
GEO:59.3819583715;28.1964073413
LAST-MODIFIED:20260420T223058
LOCATION:Ida-Virumaa\, Narva linn\, Vestervalli 17a
ORGANIZER:Vladimir Lossev\, lossev1989@gmail.com\, 55959334
SEQUENCE:0
STATUS:Доступно для регистрации
SUMMARY:260419010\, Gloria bastioni talgud MotoNurk muuseumi kõrval
UID:260419010
URL:https://talgud.teemeara.ee/events/gloria-bastioni-talgud-motonurk-muuse
 umi-korval
END:VEVENT
END:VCALENDAR
