BEGIN:VCALENDAR
VERSION:2.0
METHOD:PUBLISH
CALSCALE:GREGORIAN
METHOD:PUBLISH
PRODID:iCalendar-Ruby
BEGIN:VEVENT
CATEGORIES:Heakord
COMMENT:https://talgud.teemeara.ee/
CONTACT:Tõnu Taal\, ttaal54@gmail.com\, 5027221
DTEND:20260503T130000
DTSTAMP:20260419T154028Z
DTSTART:20260503T100000
GEO:58.9541268;25.7909939
LAST-MODIFIED:20260419T120100
LOCATION:Järvamaa\, Järva vald\, Kareda\, Esna vana vallamaja
ORGANIZER:Tõnu Taal\, ttaal54@gmail.com\, 5027221
SEQUENCE:0
STATUS:Registreerumiseks avatud
SUMMARY:260419005\, Esna wallamaja heakorratalgud Karedal.
UID:260419005
URL:https://talgud.teemeara.ee/events/esna-wallamaja-heakorratalgud-karedal
 -2
END:VEVENT
END:VCALENDAR
