BEGIN:VCALENDAR
VERSION:2.0
METHOD:PUBLISH
CALSCALE:GREGORIAN
METHOD:PUBLISH
PRODID:iCalendar-Ruby
BEGIN:VEVENT
CATEGORIES:Looduskaitse,Prügikoristus,Vaimse tervise talgud
COMMENT:https://talgud.teemeara.ee/
CONTACT:Jekaterina Plahtii\, jplahtii98@gmail.com\, 5119045
DESCRIPTION:
DTEND:20260502T160000
DTSTAMP:20260422T204918Z
DTSTART:20260501T150000
GEO:59.2643638773;27.5717683328
LAST-MODIFIED:20260422T180102
LOCATION:Ida-Virumaa\, Alutaguse vald\, Kurtna\, KURTNA JÄRVESTIK
ORGANIZER:Jekaterina Plahtii\, jplahtii98@gmail.com\, 5119045
SEQUENCE:0
STATUS:Registreerumine lõpetatud
SUMMARY:260421034\, CHUNI talgud – Kurtna järvede matk ja koristus
UID:260421034
URL:https://talgud.teemeara.ee/events/chuni-talgud-kurtna-jarvede-matka-ja-
 koristus
END:VEVENT
END:VCALENDAR
