BEGIN:VCALENDAR
VERSION:2.0
METHOD:PUBLISH
CALSCALE:GREGORIAN
METHOD:PUBLISH
PRODID:iCalendar-Ruby
BEGIN:VEVENT
CATEGORIES:Heakord
COMMENT:https://talgud.teemeara.ee/
CONTACT:KRISTA KALLARI\, kristakallari@gmail.com\, 53446208
DTEND:20260502T130000
DTSTAMP:20260424T122238Z
DTSTART:20260502T110000
GEO:58.0790112931;27.5807526698
LAST-MODIFIED:20260424T073213
LOCATION:Võrumaa\, Setomaa vald\, Beresje\, Beresje sadam
ORGANIZER:KRISTA KALLARI\, kristakallari@gmail.com\, 53446208
SEQUENCE:0
STATUS:Registreerumiseks avatud
SUMMARY:260424002\, Beresje küla talgud
UID:260424002
URL:https://talgud.teemeara.ee/events/beresje-kula-talgud
END:VEVENT
END:VCALENDAR
