BEGIN:VCALENDAR
VERSION:2.0
METHOD:PUBLISH
CALSCALE:GREGORIAN
METHOD:PUBLISH
PRODID:iCalendar-Ruby
BEGIN:VEVENT
CATEGORIES:Külatalgud,Mõttetalgud
COMMENT:https://talgud.teemeara.ee/
CONTACT:Merle Müür\, merlemyyr@gmail.com\, 5229842
DESCRIPTION:
DTEND:20260502T140000
DTSTAMP:20260421T043713Z
DTSTART:20260502T100000
GEO:58.7118840304;26.9607735719
LAST-MODIFIED:20260420T233531
LOCATION:Tartumaa\, Peipsiääre vald\, Assikvere\, Assikvere küla\, Assikver
 e seltsimaja
ORGANIZER:Merle Müür\, merlemyyr@gmail.com\, 5229842
SEQUENCE:0
STATUS:Registreerumiseks avatud
SUMMARY:260420032\, Assikvere talgud
UID:260420032
URL:https://talgud.teemeara.ee/events/assikvere-talgud-7
END:VEVENT
END:VCALENDAR
