BEGIN:VCALENDAR
VERSION:2.0
METHOD:PUBLISH
CALSCALE:GREGORIAN
METHOD:PUBLISH
PRODID:iCalendar-Ruby
BEGIN:VEVENT
CATEGORIES:Благоустройство,Безопасность сообществ,Толока в деревне,Мозговой
  штурм,Уборка мусора
COMMENT:https://talgud.teemeara.ee/
CONTACT:Kaia Talvik\, kaia.talvik@metallieksperdid.ee\, 5223180
DTEND:20260502T160000
DTSTAMP:20260423T045141Z
DTSTART:20260502T110000
GEO:59.2488485;25.0298729
LAST-MODIFIED:20260422T220102
LOCATION:Harjumaa\, Rae vald\, Aruvalla\, Külaplats
ORGANIZER:Kaia Talvik\, kaia.talvik@metallieksperdid.ee\, 5223180
SEQUENCE:0
STATUS:Регистрация завершена
SUMMARY:260422015\, Aruvalla kevadine külakoristus ja kriisiplaani arutelu.
  Küla üldkoosolek
UID:260422015
URL:https://talgud.teemeara.ee/events/aruvalla-kevadine-kulakoristus-ja-kri
 isiplaani-arutelu
END:VEVENT
END:VCALENDAR
