BEGIN:VCALENDAR
VERSION:2.0
METHOD:PUBLISH
CALSCALE:GREGORIAN
METHOD:PUBLISH
PRODID:iCalendar-Ruby
BEGIN:VEVENT
CATEGORIES:Heakord,Külatalgud
COMMENT:https://talgud.teemeara.ee/
CONTACT:Kai Kanarik\, Kai.kanarik@gmail.com\, 56207176
DESCRIPTION:
DTEND:20260502T140000
DTSTAMP:20260422T044944Z
DTSTART:20260502T100000
GEO:59.1927974421;25.837447738
LAST-MODIFIED:20260421T183318
LOCATION:Järvamaa\, Järva vald\, Ambla alevik\, Ambla park
ORGANIZER:Kai Kanarik\, Kai.kanarik@gmail.com\, 56207176
SEQUENCE:0
STATUS:Registreerumiseks avatud
SUMMARY:260421019\, Ambla talgupäev
UID:260421019
URL:https://talgud.teemeara.ee/events/ambla-talgupaev-1
END:VEVENT
END:VCALENDAR
