BEGIN:VCALENDAR
VERSION:2.0
METHOD:PUBLISH
CALSCALE:GREGORIAN
METHOD:PUBLISH
PRODID:iCalendar-Ruby
BEGIN:VEVENT
CATEGORIES:Muud talgud
COMMENT:https://talgud.teemeara.ee/
CONTACT:Piret Palm\, anoortekas@gmail.com\, 5114382
DESCRIPTION:
DTEND:20260502T140000
DTSTAMP:20260426T024648Z
DTSTART:20260502T100000
GEO:58.2068432429;27.0700825655
LAST-MODIFIED:20260424T093843
LOCATION:Põlvamaa\, Põlva vald\, Ahja alevik\, Illimari 6 kogunemine
ORGANIZER:Piret Palm\, anoortekas@gmail.com\, 5114382
SEQUENCE:0
STATUS:Registreerumiseks avatud
SUMMARY:260423020\, Ahja Kunstitalgud
UID:260423020
URL:https://talgud.teemeara.ee/events/ahja-kunstitalgud
END:VEVENT
END:VCALENDAR
