BEGIN:VCALENDAR
VERSION:2.0
METHOD:PUBLISH
CALSCALE:GREGORIAN
METHOD:PUBLISH
PRODID:iCalendar-Ruby
BEGIN:VEVENT
CATEGORIES:Looduskaitse,Prügikoristus
COMMENT:https://talgud.teemeara.ee/
CONTACT:Tamara Müür\, tammyyr50@gmail.com\, 55632072
DTEND:20260426T170000
DTSTAMP:20260420T162920Z
DTSTART:20260426T090000
GEO:58.1499355;22.5055
LAST-MODIFIED:20260420T160102
LOCATION:Saaremaa\, Saaremaa vald\, Abruka
ORGANIZER:Tamara Müür\, tammyyr50@gmail.com\, 55632072
SEQUENCE:0
STATUS:Registreerumine lõpetatud
SUMMARY:260420019\, Abruka saare Vahase poolse rannaala korrastus
UID:260420019
URL:https://talgud.teemeara.ee/events/abruka-saare-vahase-poolse-rannaala-k
 orrastus
END:VEVENT
END:VCALENDAR
